BEGIN:VCALENDAR
VERSION:2.0
PRODID:-//Alexandra Primary School - ECPv6.15.20//NONSGML v1.0//EN
CALSCALE:GREGORIAN
METHOD:PUBLISH
X-ORIGINAL-URL:https://alexandraprimaryschool.co.uk
X-WR-CALDESC:Events for Alexandra Primary School
REFRESH-INTERVAL;VALUE=DURATION:PT1H
X-Robots-Tag:noindex
X-PUBLISHED-TTL:PT1H
BEGIN:VTIMEZONE
TZID:Europe/London
BEGIN:DAYLIGHT
TZOFFSETFROM:+0000
TZOFFSETTO:+0100
TZNAME:BST
DTSTART:20240331T010000
END:DAYLIGHT
BEGIN:STANDARD
TZOFFSETFROM:+0100
TZOFFSETTO:+0000
TZNAME:GMT
DTSTART:20241027T010000
END:STANDARD
BEGIN:DAYLIGHT
TZOFFSETFROM:+0000
TZOFFSETTO:+0100
TZNAME:BST
DTSTART:20250330T010000
END:DAYLIGHT
BEGIN:STANDARD
TZOFFSETFROM:+0100
TZOFFSETTO:+0000
TZNAME:GMT
DTSTART:20251026T010000
END:STANDARD
BEGIN:DAYLIGHT
TZOFFSETFROM:+0000
TZOFFSETTO:+0100
TZNAME:BST
DTSTART:20260329T010000
END:DAYLIGHT
BEGIN:STANDARD
TZOFFSETFROM:+0100
TZOFFSETTO:+0000
TZNAME:GMT
DTSTART:20261025T010000
END:STANDARD
END:VTIMEZONE
BEGIN:VEVENT
DTSTART;TZID=Europe/London:20251001T085000
DTEND;TZID=Europe/London:20251001T093000
DTSTAMP:20260423T091703
CREATED:20250924T091918Z
LAST-MODIFIED:20250924T091918Z
UID:20260-1759308600-1759311000@alexandraprimaryschool.co.uk
SUMMARY:Phonics and Early Reading Parent Workshop
DESCRIPTION:
URL:https://alexandraprimaryschool.co.uk/event/phonics-and-early-reading-parent-workshop/
END:VEVENT
BEGIN:VEVENT
DTSTART;TZID=Europe/London:20251010T032000
DTEND;TZID=Europe/London:20251010T170000
DTSTAMP:20260423T091703
CREATED:20250924T092037Z
LAST-MODIFIED:20250924T092037Z
UID:20262-1760066400-1760115600@alexandraprimaryschool.co.uk
SUMMARY:International Evening
DESCRIPTION:
URL:https://alexandraprimaryschool.co.uk/event/international-evening/
END:VEVENT
BEGIN:VEVENT
DTSTART;TZID=Europe/London:20251016T133000
DTEND;TZID=Europe/London:20251016T183000
DTSTAMP:20260423T091703
CREATED:20251014T125853Z
LAST-MODIFIED:20251014T125929Z
UID:20366-1760621400-1760639400@alexandraprimaryschool.co.uk
SUMMARY:Parents Evening
DESCRIPTION:
URL:https://alexandraprimaryschool.co.uk/event/parents-evening-1330-1630/
END:VEVENT
BEGIN:VEVENT
DTSTART;VALUE=DATE:20251017
DTEND;VALUE=DATE:20251018
DTSTAMP:20260423T091703
CREATED:20251014T152551Z
LAST-MODIFIED:20251014T152617Z
UID:20476-1760659200-1760745599@alexandraprimaryschool.co.uk
SUMMARY:Show Racism the Red Card
DESCRIPTION:Children are invited to wear Red on this day
URL:https://alexandraprimaryschool.co.uk/event/show-racism-the-red-card/
END:VEVENT
BEGIN:VEVENT
DTSTART;VALUE=DATE:20251020
DTEND;VALUE=DATE:20251025
DTSTAMP:20260423T091703
CREATED:20251014T164028Z
LAST-MODIFIED:20251014T164149Z
UID:20553-1760918400-1761350399@alexandraprimaryschool.co.uk
SUMMARY:Y6 Pendarren Trip
DESCRIPTION:
URL:https://alexandraprimaryschool.co.uk/event/y6-pendarren-trip/
END:VEVENT
BEGIN:VEVENT
DTSTART;TZID=Europe/London:20251024T133000
DTEND;TZID=Europe/London:20251024T144500
DTSTAMP:20260423T091703
CREATED:20251014T130016Z
LAST-MODIFIED:20251014T130430Z
UID:20370-1761312600-1761317100@alexandraprimaryschool.co.uk
SUMMARY:EYFS Teddy Bear's Picnic
DESCRIPTION:
URL:https://alexandraprimaryschool.co.uk/event/eyfs-teddy-bears-picnic/
END:VEVENT
BEGIN:VEVENT
DTSTART;VALUE=DATE:20251027
DTEND;VALUE=DATE:20251101
DTSTAMP:20260423T091703
CREATED:20250912T145718Z
LAST-MODIFIED:20250912T145718Z
UID:4142-1761523200-1761955199@alexandraprimaryschool.co.uk
SUMMARY:Autumn Half Term
DESCRIPTION:
URL:https://alexandraprimaryschool.co.uk/event/autumn-half-term/
CATEGORIES:Term Dates
END:VEVENT
END:VCALENDAR